BEGIN:VCALENDAR
VERSION:2.0
PRODID:-//Arnside Methodist Church - ECPv6.6.1//NONSGML v1.0//EN
CALSCALE:GREGORIAN
METHOD:PUBLISH
X-WR-CALNAME:Arnside Methodist Church
X-ORIGINAL-URL:http://www.arnsidemethodistchurch.org.uk
X-WR-CALDESC:Events for Arnside Methodist Church
REFRESH-INTERVAL;VALUE=DURATION:PT1H
X-Robots-Tag:noindex
X-PUBLISHED-TTL:PT1H
BEGIN:VTIMEZONE
TZID:UTC
BEGIN:STANDARD
TZOFFSETFROM:+0000
TZOFFSETTO:+0000
TZNAME:UTC
DTSTART:20240101T000000
END:STANDARD
END:VTIMEZONE
BEGIN:VEVENT
DTSTART;TZID=UTC:20241001T130000
DTEND;TZID=UTC:20241001T170000
DTSTAMP:20260421T022617
CREATED:20240731T171041Z
LAST-MODIFIED:20240731T171041Z
UID:1010-1727787600-1727802000@www.arnsidemethodistchurch.org.uk
SUMMARY:Green Thumb Gathering: Community Gardening Day
DESCRIPTION:Dive into the world of gardening with our Green Thumb Gathering! Whether you’re a seasoned gardener or just getting started\, this community event invites you to learn\, share\, and grow. Participate in workshops on sustainable gardening practices\, plant swaps\, and a community garden project that aims to beautify our neighborhood. It’s a great opportunity to connect with fellow gardening enthusiasts and contribute to a greener\, more sustainable community.
URL:http://www.arnsidemethodistchurch.org.uk/event/green-thumb-gathering-community-gardening-day/
LOCATION:Harmony Park\, 112 Main St\, Missoula\, Montana\, United States
CATEGORIES:Community
ATTACH;FMTTYPE=image/jpeg:http://www.arnsidemethodistchurch.org.uk/wp-content/uploads/2024/07/sunburst-monstrance-during-christian-procession.jpeg
ORGANIZER;CN="Community Outreach":MAILTO:info@communityoutreach.org
END:VEVENT
BEGIN:VEVENT
DTSTART;TZID=UTC:20240831T130000
DTEND;TZID=UTC:20240831T170000
DTSTAMP:20260421T022617
CREATED:20240731T171038Z
LAST-MODIFIED:20240731T171038Z
UID:1007-1725109200-1725123600@www.arnsidemethodistchurch.org.uk
SUMMARY:Tech Together: Community-Led Technology Workshop
DESCRIPTION:Dive into the digital world with Tech Together\, a series of community-led technology workshops designed to empower residents with the skills needed for the modern age. Whether you’re looking to master the basics of computer use\, understand internet safety\, or explore the realms of coding and digital creativity\, our friendly\, approachable sessions have you covered. Led by local tech enthusiasts and professionals\, these workshops provide a supportive environment for learning and innovation. Join us to bridge the digital divide\, enhance your tech proficiency\, and connect with fellow learners in a collaborative\, inclusive setting.
URL:http://www.arnsidemethodistchurch.org.uk/event/tech-together-community-led-technology-workshop/
LOCATION:Event Studio\, 112 Main St\, Missoula\, MT\, United States
ATTACH;FMTTYPE=image/jpeg:http://www.arnsidemethodistchurch.org.uk/wp-content/uploads/2024/07/white-cathedral.jpeg
ORGANIZER;CN="Community Outreach":MAILTO:info@communityoutreach.org
END:VEVENT
END:VCALENDAR